BEGIN:VCALENDAR
VERSION:2.0
PRODID:-//Tukios.com/
BEGIN:VEVENT
UID:01c880fb-83ec-4463-b4d9-89ccd6c1080a@www.twohigfunerals.com
DTSTAMP:20260422T171519Z
DTSTART:20260501T150000Z
DTEND:20260501T170000Z
SUMMARY:Visitation
DESCRIPTION:
URL:https://www.twohigfunerals.com/obituaries/terry-thorp
LOCATION: 305 Fond du Lac Ave  Fond du Lac WI 54935
GEO:43.7707472;-88.4321723
END:VEVENT
END:VCALENDAR